BEGIN:VCALENDAR
PRODID:-//AT Content Types//AT Event//EN
VERSION:2.0
METHOD:PUBLISH
BEGIN:VEVENT
DTSTAMP:20201127T170921Z
CREATED:20110902T094651Z
UID:ATEvent-a79402bfa3d02221e173b66d135363c5
LAST-MODIFIED:20111202T123418Z
SUMMARY:Reale Utopien? Symposium zur Ausstellung „Tomás Saraceno. Cloud Cities“
DTSTART:20111213T180000Z
DTEND:20111213T213000Z
DESCRIPTION:Der Künstler und Architekt Tomás Saraceno entwirft schwe
 bende Städte und erforscht die Möglichkeiten fliegender Behausungen 
 als Alternative zum Leben auf der Erdoberfläche. Diese und eine Vielz
 ahl seiner weiteren Arbeiten tragen zu einer Debatte über andere Arte
 n von Wohnen\, Mobilität und Kommunikation bei.  Begleitend zur Ausst
 ellung im Hamburger Bahnhof - Museum für Gegenwart - Berlin findet ei
 n multidisziplinäres Symposium mit dem Künstler\, Architekten und Wi
 ssenschaftlern statt.
CATEGORIES:Transdisziplinäres Symposium
CONTACT:Stefan Aue\, 030/ 20370 586\, jahresthema@bbaw.de
URL:http://www.hamburgerbahnhof.de/exhibition.php?id=29989&lang=de
CLASS:PUBLIC
END:VEVENT
END:VCALENDAR
