BEGIN:VCALENDAR
PRODID:-//AT Content Types//AT Event//EN
VERSION:1.0
BEGIN:VEVENT
DTSTART:20180320T170000Z
DTEND:20180320T190000Z
DCREATED:20171206T163704Z
UID:ATEvent-cbe544cd9baf80ed33e56858077c40f7
SEQUENCE:0
LAST-MODIFIED:20180312T120947Z
SUMMARY:Zum Verhältnis von Sprache und Kognition aus sprachwissenschaftlicher Sicht
DESCRIPTION:Der Zusammenhang von Sprache und Kognition ist seit der An
 tike Gegenstand sprachphilosophischer und sprachwissenschaftlicher The
 orien. Methoden der empirischen Linguistik\, der Psychologie und der N
 eurowissenschaften werden heute eingesetzt\, um zu klären\, inwieweit
  kognitive Prozesse an die Sprache gebunden sind.\nVortrag\: Christian
 e von Stutterheim
PRIORITY:3
TRANSP:0
END:VEVENT
END:VCALENDAR
