BEGIN:VCALENDAR
PRODID:-//AT Content Types//AT Event//EN
VERSION:2.0
METHOD:PUBLISH
BEGIN:VEVENT
DTSTAMP:20201127T181017Z
CREATED:20180627T103434Z
UID:ATEvent-ff8d40c85a9b8742febff0e6a554de2c
LAST-MODIFIED:20180903T133421Z
SUMMARY:Show oder Chance? Visuelles Wissen in Schule und Wissenschaft
DTSTART:20181025
DTEND:20181028
DESCRIPTION:
CATEGORIES:Jugend präsentiert Bundeskongress 2018
CONTACT:Dr. Constanze Fröhlich\, +49 (0)30 20 370 586\, constanze.froehlich@bbaw.de
URL:https://www.jugend-praesentiert.de/visuelles-wissen
CLASS:PUBLIC
END:VEVENT
END:VCALENDAR
